BEGIN:VCALENDAR
VERSION:2.0
PRODID:-/-/EN
BEGIN:VEVENT
SUMMARY:Gastrointestinal Consequences of Cancer Treatment (virtual event)
UID:1234
DESCRIPTION:This event will provide an overview of the most common consequences of cancer treatment towards the gastrointestinal system (including immunotherapy related consequences\, rectal bleeding\, small intestinal bacterial overgrowth syndrome\, bile acid malabsorption\, pancreatic insufficiency and graft versus host disease) and towards the urology system.\n\n
DTSTAMP:20220114T145800Z
DTSTART:20220302T090000Z
DTEND:20220302T090000Z
LOCATION:VIRTUAL
END:VEVENT
END:VCALENDAR