BEGIN:VCALENDAR
VERSION:2.0
PRODID:-/-/EN
BEGIN:VEVENT
SUMMARY:3rd World Congress on  Otology, Rhinology & Laryngology
UID:1299
DESCRIPTION:Coalesce Research Group is pleased to invite you to the 3rd World Congress on Otology\, Rhinology\, and Laryngology (Otorhinolaryngology 2023) that will be taking place in London on October 16-17\, 2023 .\nOtorhinolaryngology is a medical specialty that is focused on the study and treatment of the Ear\, Nose\, and Throat as well as the sinuses\, mouth\, head\, and neck. Otorhinolaryngology2023 aims to gather experts in the field of Otology\, Rhinology\, and Laryngology such as Doctors\, Scientists\, Researchers\, and Clinical specialists across the globe. There will be very productive sessions on various topics related to all fields in Otorhinolaryngology as well as a special focus on Clinical Sciences.\n\nOtorhinolaryngology2023 helps to gain up-to-date information about the latest scientific innovations\, research\, techniques\, and Clinical skills. Live gatherings are well-known among medical professionals to gather and disseminate knowledge\, ideas\, and thoughts.\n\nBenefits of Attending:\n• Our event provides the best platform to share\, connect and discuss with the global experts in the field of Otorhinolaryngology\n• Helps to grow connections and networks globally\n• Gain Knowledge and collaborate with the experts\n• Accepted Abstracts will be published in our proceedings Book\n• Handbook & Certification Included\n\nAttendees include:\n\n• Otorhinolaryngologists\n• Audiologists\n• Speech Pathologists\n• Surgeons\n• Scientists\n• Radiologists\n• Physicians\n• Researchers\n• Students\n \n\n
DTSTAMP:20221111T114400Z
DTSTART:20231016T160200Z
DTEND:20231017T160200Z
LOCATION:London
END:VEVENT
END:VCALENDAR