BEGIN:VCALENDAR
VERSION:2.0
PRODID:-/-/EN
BEGIN:VEVENT
SUMMARY:2020 BASO Annual (virtual) Meeting 
UID:147
DESCRIPTION:We are excited to invite you to BASO’s first virtual Meeting. The meeting will be facilitated by experts in the field of cancer research\, care and treatment. The programme will cover:\n\n• Breast Cancer IORT\n• Global Surgery – the COVID effect\n• Improving the cancer journey: a surgeon as a patient\n• Medico-legal issues in COVID times: when things go wrong\, who are the victims?\n• Q&A\n• Abstract Oral Presentations\n\n
DTSTAMP:20200908T111300Z
DTSTART:20201121T121000Z
DTEND:20201123T121100Z
LOCATION:Online Meeting
END:VEVENT
END:VCALENDAR