BEGIN:VCALENDAR
VERSION:2.0
PRODID:-/-/EN
BEGIN:VEVENT
SUMMARY:7th Endoscopic Skull Base Dissection Course
UID:161
DESCRIPTION:The 7th edition of the Endoscopic Skull Base Dissection Course will take place in Athens\, Greece.\nThe course will provide an excellent opportunity for participants to listen to lectures by an outstanding international faculty which will cover both the basis\, as well as the latest developments of endoscopic skull base surgery.\nFurthermore\, participants will be able to get hands-on experience and update their knowledge of skull base anatomy through the cadaveric dissection sessions.\nThe course aims for participants to further their knowledge of skull base surgery and for both faculty and participants to fortify their professional relationships and enjoy their stay in Athens.\n\n
DTSTAMP:20210212T082100Z
DTSTART:20211001T120000Z
DTEND:20211003T200000Z
LOCATION:ATT Center, Athens, Greece
END:VEVENT
END:VCALENDAR