BEGIN:VCALENDAR
VERSION:2.0
PRODID:-/-/EN
BEGIN:VEVENT
SUMMARY:8th International Conference on Otolaryngology: ENT Surgery
UID:162
DESCRIPTION:8th International Conference on Otolaryngology: ENT Surgery going to be held as a webinar on 28th and 29th of May 2021 under the theme “Surgical Enhancement to Enrich Quality in Otolaryngologic Medication”. We aim to address all the recent enhancements in the field of Head and Neck Surgery and provide a completed update of innovation on Otolaryngologic Medication to all our attendees.\n\n
DTSTAMP:20210222T073700Z
DTSTART:20210528T080000Z
DTEND:20210529T164800Z
LOCATION:Webinar 
END:VEVENT
END:VCALENDAR