BEGIN:VCALENDAR
VERSION:2.0
PRODID:-/-/EN
BEGIN:VEVENT
SUMMARY:Swallowing & Communication Virtual Study Day
UID:165
DESCRIPTION:This 2-day event aims to facilitate and enhance knowledge and skills.\nThe programme consists of a series of lectures and emergency scenarios relating to all aspects of swallowing and communication within the cancer care environment.\n\nThis virtual event is open to all allied healthcare professionals\, practitioners\, and nurses involved in the challenge of caring for patients with cancer.\n\n
DTSTAMP:20210310T111400Z
DTSTART:20210930T090000Z
DTEND:20211001T120000Z
LOCATION:Virtual
END:VEVENT
END:VCALENDAR