BEGIN:VCALENDAR
VERSION:2.0
PRODID:-/-/EN
BEGIN:VEVENT
SUMMARY:Session 1: Understanding Immunotherapy in Head & Neck Cancer
UID:1740
DESCRIPTION:Panelists:\n\nDr Ben O’Leary – Clinician Scientist & Group Leader\, ICR | Honorary Consultant\, The Royal Marsden\n\nDr Anna Olsson-Brown – Consultant in Medical Oncology\, Sussex Cancer Centre | Honorary Senior Lecturer\, University of Liverpool\n\nDr Charles G. Kelly – Consultant Clinical Oncologist\, Northern Centre for Cancer Care\, Newcastle | Honorary Senior Lecturer\, Newcastle University\n\n \n\nPlease click here for Recording\n\n
DTSTAMP:20251014T095900Z
DTSTART:20251007T190000Z
DTEND:20251007T200000Z
END:VEVENT
END:VCALENDAR