BEGIN:VCALENDAR
VERSION:2.0
PRODID:-/-/EN
BEGIN:VEVENT
SUMMARY:Session 3: Mental Health in Head & Neck Cancer
UID:1754
DESCRIPTION:Panel Members: Elspeth Desert\, Consultant Clinical Health Psychologist\, North Cumbria Integrated Care. Jane Anderson\, Senior Lecturer in Advanced Clinical Practice\, University of Huddersfield.\n\n \n\nView webinar: Click here\n\n
DTSTAMP:20251119T120400Z
DTSTART:20251209T200000Z
DTEND:20251209T210000Z
END:VEVENT
END:VCALENDAR