BEGIN:VCALENDAR
VERSION:2.0
PRODID:-/-/EN
BEGIN:VEVENT
SUMMARY:BIR Annual Congress 2021
UID:191
DESCRIPTION:Due to the uncertainty and keeping in mind the safety of all\, we have made the decision to deliver this year's Congress virtually. We are hopeful and looking forward to seeing you all in person in 2022.\n\n\nA mix of six different streams and seven topics offering a comprehensive programme on the latest innovations in imaging and treatment to medical imaging professionals and their senior management teams.\n\nTaking place over two days\, the event provides excellent opportunities to learn\, interact and engage with attendees\, speakers and industry representatives. There will also be plenty of opportunities to ask questions.\n\n
DTSTAMP:20210527T080900Z
DTSTART:20211104T084500Z
DTEND:20211105T170000Z
LOCATION:Virtual Event
END:VEVENT
END:VCALENDAR