BEGIN:VCALENDAR
VERSION:2.0
PRODID:-/-/EN
BEGIN:VEVENT
SUMMARY:International Summer School Transnasal Endoscopic Surgery
UID:192
DESCRIPTION:International Summer School Transnasal Endoscopic Surgery: from sinuses to skull base hands-on disection and live streaming surgery\n\nThe aim of this course is to offer an overview of the applications of transnasal endoscopic surgery\, starting from simple procedures performed under local anesthesia to more extensive operations adopted for inflammatory disease\, benign and malignant sinonasal tumors\, skullbase diseases\, sellar and parasellar lesions\, down to the clivus\, nasopharynx and craniovertebral junction.\n\nThe course will provide a hands-on dissection session (September 20-22)\, followed by a live streaming surgery session (in October\, date to be assigned).\n\nThe course is addressed to otholaryngologists and neurosurgeons\, according to the aim of multidisciplinarity the course encourages.\n \n\n
DTSTAMP:20210528T145100Z
DTSTART:20210920T070000Z
DTEND:20210922T160000Z
LOCATION:Brescia Italy
END:VEVENT
END:VCALENDAR