BEGIN:VCALENDAR
VERSION:2.0
PRODID:-/-/EN
BEGIN:VEVENT
SUMMARY:Head & Neck Squamous Cell Carcinoma of Unknown Primary
UID:204
DESCRIPTION:ENT UK and The Head and Neck Society are hosting this full-day academic conference on Monday 15 November 2021\, which attendees can join virtually or face-to-face at Sage Gateshead.\n\nThe meeting seeks to provide an overview of the current evidence in managing head and neck cancer presenting as an unknown primary\, and achieve an expert multi-disciplinary consensus on aspects of diagnosis and management. \n\nEach session will commence with a systematic review of the existing evidence base\, and provide insight into the national picture on patient management\, both retrospectively and within the framework of a prospective study. Appropriate stakeholders relevant to each session will contribute to the discussion. Breakout rooms led by experienced chairs will seek to define consensus for management recommendations using Delphi principles. There will be three sessions in all\, which will follow the pathway of diagnosis and management of the unknown primary.\n\nWe fully anticipate that this will lead to a number of publications on the topic\, and contribute to the forthcoming 6th edition of the UK head and neck cancer multi-disciplinary guidelines. The publications will acknowledge all presenters and participants.\n\nProgramme available here.\n\nTICKET PRICES (+ Eventbrite fee)\n\nMembers EB price-consultants - £109\n\nMembers EB price-other grades - £79\n\nNon members EB price - £139\n\nMembers standard price-Consultants - £119\n\nMembers standard price-Other grades - £89\n\nNon members standard price - £149\n\nPlease note ticket prices are the same for virtual and physical attendance.\n\n
DTSTAMP:20210901T170100Z
DTSTART:20211115T180700Z
DTEND:20211115T180700Z
END:VEVENT
END:VCALENDAR