BEGIN:VCALENDAR
VERSION:2.0
PRODID:-/-/EN
BEGIN:VEVENT
SUMMARY:Advances in Head and Neck Oncology
UID:28
DESCRIPTION:This study day is aimed at nurses and other healthcare professionals involved in the care and management of individuals with head and neck cancer.\n\n
DTSTAMP:20190109T102700Z
DTSTART:20190121T090000Z
DTEND:20190121T170000Z
LOCATION:The Royal Marsden Education and Conference Centre
END:VEVENT
END:VCALENDAR