BEGIN:VCALENDAR
VERSION:2.0
PRODID:-/-/EN
BEGIN:VEVENT
SUMMARY:BASO Annual Meeting
UID:3
DESCRIPTION:Abstracts on all cancer-related topics and specialty areas are invited for the forthcoming meeting. There will be several oral and poster prize sessions for presentations of papers during the meeting. The following prestigious prizes will be awarded at the Meeting:\n\n \n\nAlan Edwards Poster Prize (award of £400 + BASO~ACS Certificate)BASO Raven Proffered Paper Prize  (award of £600 + BASO~ACS Certificate)BASO Trainees Poster Prize (award of £75+ BASO~ACS Certificate)BASO Trainees Proffered Paper Prize (award of £100 + BASO~ACS Certificate) \n\nAll the abstracts will be published in our in-house Journal EJSO.\n\n \n\nWhy Submit?\n\nShowcase your research and receive feedback from your peers.Ensure your work is accessible to UK and International research community.Win prizes and awards for best submissions.You maybe invited to give a talk at the parallel session.As author of an accepted abstract\, you will have the chance to present your work in a poster session\, with dedicated viewing times. \n\nFurther Details\n\n \n\nVisit www.BASO.org.uk for Abstract Submission\n\n \n\n
DTSTAMP:20181009T155800Z
DTSTART:20181104T000000Z
DTEND:20181105T000000Z
LOCATION:Glasgow
END:VEVENT
END:VCALENDAR